BEGIN:VCALENDAR
VERSION:2.0
PRODID:-//Newcastle Basketball - ECPv6.8.1//NONSGML v1.0//EN
CALSCALE:GREGORIAN
METHOD:PUBLISH
X-WR-CALNAME:Newcastle Basketball
X-ORIGINAL-URL:https://www.newcastlebasketball.com.au
X-WR-CALDESC:Events for Newcastle Basketball
REFRESH-INTERVAL;VALUE=DURATION:PT1H
X-Robots-Tag:noindex
X-PUBLISHED-TTL:PT1H
BEGIN:VTIMEZONE
TZID:Australia/Sydney
BEGIN:STANDARD
TZOFFSETFROM:+1100
TZOFFSETTO:+1000
TZNAME:AEST
DTSTART:20260404T160000
END:STANDARD
BEGIN:DAYLIGHT
TZOFFSETFROM:+1000
TZOFFSETTO:+1100
TZNAME:AEDT
DTSTART:20261003T160000
END:DAYLIGHT
BEGIN:STANDARD
TZOFFSETFROM:+1100
TZOFFSETTO:+1000
TZNAME:AEST
DTSTART:20270403T160000
END:STANDARD
BEGIN:DAYLIGHT
TZOFFSETFROM:+1000
TZOFFSETTO:+1100
TZNAME:AEDT
DTSTART:20271002T160000
END:DAYLIGHT
END:VTIMEZONE
BEGIN:VEVENT
DTSTART;TZID=Australia/Sydney:20261121T000000
DTEND;TZID=Australia/Sydney:20261121T235900
DTSTAMP:20260423T130740
CREATED:20001127T002813Z
LAST-MODIFIED:20250116T052047Z
UID:10001671-1795219200-1795305540@www.newcastlebasketball.com.au
SUMMARY:Closed to General Public
DESCRIPTION:
URL:https://www.newcastlebasketball.com.au/event/closed-to-general-public/2026-11-21/
LOCATION:Newcastle Basketball Stadium\, 27 Young Road\, Broadmeadow\, New South Wales\, 2292\, Australia
CATEGORIES:Shootaround
END:VEVENT
BEGIN:VEVENT
DTSTART;TZID=Australia/Sydney:20261122T000000
DTEND;TZID=Australia/Sydney:20261122T235900
DTSTAMP:20260423T130740
CREATED:20001127T002813Z
LAST-MODIFIED:20250116T052047Z
UID:10001672-1795305600-1795391940@www.newcastlebasketball.com.au
SUMMARY:Closed to General Public
DESCRIPTION:
URL:https://www.newcastlebasketball.com.au/event/closed-to-general-public/2026-11-22/
LOCATION:Newcastle Basketball Stadium\, 27 Young Road\, Broadmeadow\, New South Wales\, 2292\, Australia
CATEGORIES:Shootaround
END:VEVENT
BEGIN:VEVENT
DTSTART;TZID=Australia/Sydney:20261128T000000
DTEND;TZID=Australia/Sydney:20261128T235900
DTSTAMP:20260423T130740
CREATED:20001127T002813Z
LAST-MODIFIED:20250116T052047Z
UID:10001673-1795824000-1795910340@www.newcastlebasketball.com.au
SUMMARY:Closed to General Public
DESCRIPTION:
URL:https://www.newcastlebasketball.com.au/event/closed-to-general-public/2026-11-28/
LOCATION:Newcastle Basketball Stadium\, 27 Young Road\, Broadmeadow\, New South Wales\, 2292\, Australia
CATEGORIES:Shootaround
END:VEVENT
BEGIN:VEVENT
DTSTART;TZID=Australia/Sydney:20261129T000000
DTEND;TZID=Australia/Sydney:20261129T235900
DTSTAMP:20260423T130740
CREATED:20001127T002813Z
LAST-MODIFIED:20250116T052047Z
UID:10001674-1795910400-1795996740@www.newcastlebasketball.com.au
SUMMARY:Closed to General Public
DESCRIPTION:
URL:https://www.newcastlebasketball.com.au/event/closed-to-general-public/2026-11-29/
LOCATION:Newcastle Basketball Stadium\, 27 Young Road\, Broadmeadow\, New South Wales\, 2292\, Australia
CATEGORIES:Shootaround
END:VEVENT
BEGIN:VEVENT
DTSTART;TZID=Australia/Sydney:20261205T000000
DTEND;TZID=Australia/Sydney:20261205T235900
DTSTAMP:20260423T130740
CREATED:20001127T002813Z
LAST-MODIFIED:20250116T052047Z
UID:10001675-1796428800-1796515140@www.newcastlebasketball.com.au
SUMMARY:Closed to General Public
DESCRIPTION:
URL:https://www.newcastlebasketball.com.au/event/closed-to-general-public/2026-12-05/
LOCATION:Newcastle Basketball Stadium\, 27 Young Road\, Broadmeadow\, New South Wales\, 2292\, Australia
CATEGORIES:Shootaround
END:VEVENT
BEGIN:VEVENT
DTSTART;TZID=Australia/Sydney:20261206T000000
DTEND;TZID=Australia/Sydney:20261206T235900
DTSTAMP:20260423T130740
CREATED:20001127T002813Z
LAST-MODIFIED:20250116T052047Z
UID:10001676-1796515200-1796601540@www.newcastlebasketball.com.au
SUMMARY:Closed to General Public
DESCRIPTION:
URL:https://www.newcastlebasketball.com.au/event/closed-to-general-public/2026-12-06/
LOCATION:Newcastle Basketball Stadium\, 27 Young Road\, Broadmeadow\, New South Wales\, 2292\, Australia
CATEGORIES:Shootaround
END:VEVENT
BEGIN:VEVENT
DTSTART;TZID=Australia/Sydney:20261212T000000
DTEND;TZID=Australia/Sydney:20261212T235900
DTSTAMP:20260423T130740
CREATED:20001127T002813Z
LAST-MODIFIED:20250116T052047Z
UID:10001677-1797033600-1797119940@www.newcastlebasketball.com.au
SUMMARY:Closed to General Public
DESCRIPTION:
URL:https://www.newcastlebasketball.com.au/event/closed-to-general-public/2026-12-12/
LOCATION:Newcastle Basketball Stadium\, 27 Young Road\, Broadmeadow\, New South Wales\, 2292\, Australia
CATEGORIES:Shootaround
END:VEVENT
BEGIN:VEVENT
DTSTART;TZID=Australia/Sydney:20261213T000000
DTEND;TZID=Australia/Sydney:20261213T235900
DTSTAMP:20260423T130740
CREATED:20001127T002813Z
LAST-MODIFIED:20250116T052047Z
UID:10001678-1797120000-1797206340@www.newcastlebasketball.com.au
SUMMARY:Closed to General Public
DESCRIPTION:
URL:https://www.newcastlebasketball.com.au/event/closed-to-general-public/2026-12-13/
LOCATION:Newcastle Basketball Stadium\, 27 Young Road\, Broadmeadow\, New South Wales\, 2292\, Australia
CATEGORIES:Shootaround
END:VEVENT
BEGIN:VEVENT
DTSTART;TZID=Australia/Sydney:20261219T000000
DTEND;TZID=Australia/Sydney:20261219T235900
DTSTAMP:20260423T130740
CREATED:20001127T002813Z
LAST-MODIFIED:20250116T052047Z
UID:10001679-1797638400-1797724740@www.newcastlebasketball.com.au
SUMMARY:Closed to General Public
DESCRIPTION:
URL:https://www.newcastlebasketball.com.au/event/closed-to-general-public/2026-12-19/
LOCATION:Newcastle Basketball Stadium\, 27 Young Road\, Broadmeadow\, New South Wales\, 2292\, Australia
CATEGORIES:Shootaround
END:VEVENT
BEGIN:VEVENT
DTSTART;TZID=Australia/Sydney:20261220T000000
DTEND;TZID=Australia/Sydney:20261220T235900
DTSTAMP:20260423T130740
CREATED:20001127T002813Z
LAST-MODIFIED:20250116T052047Z
UID:10001680-1797724800-1797811140@www.newcastlebasketball.com.au
SUMMARY:Closed to General Public
DESCRIPTION:
URL:https://www.newcastlebasketball.com.au/event/closed-to-general-public/2026-12-20/
LOCATION:Newcastle Basketball Stadium\, 27 Young Road\, Broadmeadow\, New South Wales\, 2292\, Australia
CATEGORIES:Shootaround
END:VEVENT
BEGIN:VEVENT
DTSTART;TZID=Australia/Sydney:20261226T000000
DTEND;TZID=Australia/Sydney:20261226T235900
DTSTAMP:20260423T130740
CREATED:20001127T002813Z
LAST-MODIFIED:20250116T052047Z
UID:10001681-1798243200-1798329540@www.newcastlebasketball.com.au
SUMMARY:Closed to General Public
DESCRIPTION:
URL:https://www.newcastlebasketball.com.au/event/closed-to-general-public/2026-12-26/
LOCATION:Newcastle Basketball Stadium\, 27 Young Road\, Broadmeadow\, New South Wales\, 2292\, Australia
CATEGORIES:Shootaround
END:VEVENT
BEGIN:VEVENT
DTSTART;TZID=Australia/Sydney:20261227T000000
DTEND;TZID=Australia/Sydney:20261227T235900
DTSTAMP:20260423T130740
CREATED:20001127T002813Z
LAST-MODIFIED:20250116T052047Z
UID:10001682-1798329600-1798415940@www.newcastlebasketball.com.au
SUMMARY:Closed to General Public
DESCRIPTION:
URL:https://www.newcastlebasketball.com.au/event/closed-to-general-public/2026-12-27/
LOCATION:Newcastle Basketball Stadium\, 27 Young Road\, Broadmeadow\, New South Wales\, 2292\, Australia
CATEGORIES:Shootaround
END:VEVENT
BEGIN:VEVENT
DTSTART;TZID=Australia/Sydney:20270102T000000
DTEND;TZID=Australia/Sydney:20270102T235900
DTSTAMP:20260423T130740
CREATED:20001127T002813Z
LAST-MODIFIED:20250116T052047Z
UID:10001683-1798848000-1798934340@www.newcastlebasketball.com.au
SUMMARY:Closed to General Public
DESCRIPTION:
URL:https://www.newcastlebasketball.com.au/event/closed-to-general-public/2027-01-02/
LOCATION:Newcastle Basketball Stadium\, 27 Young Road\, Broadmeadow\, New South Wales\, 2292\, Australia
CATEGORIES:Shootaround
END:VEVENT
BEGIN:VEVENT
DTSTART;TZID=Australia/Sydney:20270103T000000
DTEND;TZID=Australia/Sydney:20270103T235900
DTSTAMP:20260423T130740
CREATED:20001127T002813Z
LAST-MODIFIED:20250116T052047Z
UID:10001684-1798934400-1799020740@www.newcastlebasketball.com.au
SUMMARY:Closed to General Public
DESCRIPTION:
URL:https://www.newcastlebasketball.com.au/event/closed-to-general-public/2027-01-03/
LOCATION:Newcastle Basketball Stadium\, 27 Young Road\, Broadmeadow\, New South Wales\, 2292\, Australia
CATEGORIES:Shootaround
END:VEVENT
BEGIN:VEVENT
DTSTART;TZID=Australia/Sydney:20270109T000000
DTEND;TZID=Australia/Sydney:20270109T235900
DTSTAMP:20260423T130740
CREATED:20001127T002813Z
LAST-MODIFIED:20250116T052047Z
UID:10001685-1799452800-1799539140@www.newcastlebasketball.com.au
SUMMARY:Closed to General Public
DESCRIPTION:
URL:https://www.newcastlebasketball.com.au/event/closed-to-general-public/2027-01-09/
LOCATION:Newcastle Basketball Stadium\, 27 Young Road\, Broadmeadow\, New South Wales\, 2292\, Australia
CATEGORIES:Shootaround
END:VEVENT
BEGIN:VEVENT
DTSTART;TZID=Australia/Sydney:20270110T000000
DTEND;TZID=Australia/Sydney:20270110T235900
DTSTAMP:20260423T130740
CREATED:20001127T002813Z
LAST-MODIFIED:20250116T052047Z
UID:10001686-1799539200-1799625540@www.newcastlebasketball.com.au
SUMMARY:Closed to General Public
DESCRIPTION:
URL:https://www.newcastlebasketball.com.au/event/closed-to-general-public/2027-01-10/
LOCATION:Newcastle Basketball Stadium\, 27 Young Road\, Broadmeadow\, New South Wales\, 2292\, Australia
CATEGORIES:Shootaround
END:VEVENT
BEGIN:VEVENT
DTSTART;TZID=Australia/Sydney:20270116T000000
DTEND;TZID=Australia/Sydney:20270116T235900
DTSTAMP:20260423T130740
CREATED:20001127T002813Z
LAST-MODIFIED:20250116T052047Z
UID:10001687-1800057600-1800143940@www.newcastlebasketball.com.au
SUMMARY:Closed to General Public
DESCRIPTION:
URL:https://www.newcastlebasketball.com.au/event/closed-to-general-public/2027-01-16/
LOCATION:Newcastle Basketball Stadium\, 27 Young Road\, Broadmeadow\, New South Wales\, 2292\, Australia
CATEGORIES:Shootaround
END:VEVENT
BEGIN:VEVENT
DTSTART;TZID=Australia/Sydney:20270117T000000
DTEND;TZID=Australia/Sydney:20270117T235900
DTSTAMP:20260423T130740
CREATED:20001127T002813Z
LAST-MODIFIED:20250116T052047Z
UID:10001688-1800144000-1800230340@www.newcastlebasketball.com.au
SUMMARY:Closed to General Public
DESCRIPTION:
URL:https://www.newcastlebasketball.com.au/event/closed-to-general-public/2027-01-17/
LOCATION:Newcastle Basketball Stadium\, 27 Young Road\, Broadmeadow\, New South Wales\, 2292\, Australia
CATEGORIES:Shootaround
END:VEVENT
BEGIN:VEVENT
DTSTART;TZID=Australia/Sydney:20270123T000000
DTEND;TZID=Australia/Sydney:20270123T235900
DTSTAMP:20260423T130740
CREATED:20001127T002813Z
LAST-MODIFIED:20250116T052047Z
UID:10001689-1800662400-1800748740@www.newcastlebasketball.com.au
SUMMARY:Closed to General Public
DESCRIPTION:
URL:https://www.newcastlebasketball.com.au/event/closed-to-general-public/2027-01-23/
LOCATION:Newcastle Basketball Stadium\, 27 Young Road\, Broadmeadow\, New South Wales\, 2292\, Australia
CATEGORIES:Shootaround
END:VEVENT
BEGIN:VEVENT
DTSTART;TZID=Australia/Sydney:20270124T000000
DTEND;TZID=Australia/Sydney:20270124T235900
DTSTAMP:20260423T130740
CREATED:20001127T002813Z
LAST-MODIFIED:20250116T052047Z
UID:10001690-1800748800-1800835140@www.newcastlebasketball.com.au
SUMMARY:Closed to General Public
DESCRIPTION:
URL:https://www.newcastlebasketball.com.au/event/closed-to-general-public/2027-01-24/
LOCATION:Newcastle Basketball Stadium\, 27 Young Road\, Broadmeadow\, New South Wales\, 2292\, Australia
CATEGORIES:Shootaround
END:VEVENT
BEGIN:VEVENT
DTSTART;TZID=Australia/Sydney:20270130T000000
DTEND;TZID=Australia/Sydney:20270130T235900
DTSTAMP:20260423T130740
CREATED:20001127T002813Z
LAST-MODIFIED:20250116T052047Z
UID:10001691-1801267200-1801353540@www.newcastlebasketball.com.au
SUMMARY:Closed to General Public
DESCRIPTION:
URL:https://www.newcastlebasketball.com.au/event/closed-to-general-public/2027-01-30/
LOCATION:Newcastle Basketball Stadium\, 27 Young Road\, Broadmeadow\, New South Wales\, 2292\, Australia
CATEGORIES:Shootaround
END:VEVENT
BEGIN:VEVENT
DTSTART;TZID=Australia/Sydney:20270131T000000
DTEND;TZID=Australia/Sydney:20270131T235900
DTSTAMP:20260423T130740
CREATED:20001127T002813Z
LAST-MODIFIED:20250116T052047Z
UID:10001692-1801353600-1801439940@www.newcastlebasketball.com.au
SUMMARY:Closed to General Public
DESCRIPTION:
URL:https://www.newcastlebasketball.com.au/event/closed-to-general-public/2027-01-31/
LOCATION:Newcastle Basketball Stadium\, 27 Young Road\, Broadmeadow\, New South Wales\, 2292\, Australia
CATEGORIES:Shootaround
END:VEVENT
BEGIN:VEVENT
DTSTART;TZID=Australia/Sydney:20270206T000000
DTEND;TZID=Australia/Sydney:20270206T235900
DTSTAMP:20260423T130740
CREATED:20001127T002813Z
LAST-MODIFIED:20250116T052047Z
UID:10001693-1801872000-1801958340@www.newcastlebasketball.com.au
SUMMARY:Closed to General Public
DESCRIPTION:
URL:https://www.newcastlebasketball.com.au/event/closed-to-general-public/2027-02-06/
LOCATION:Newcastle Basketball Stadium\, 27 Young Road\, Broadmeadow\, New South Wales\, 2292\, Australia
CATEGORIES:Shootaround
END:VEVENT
BEGIN:VEVENT
DTSTART;TZID=Australia/Sydney:20270207T000000
DTEND;TZID=Australia/Sydney:20270207T235900
DTSTAMP:20260423T130740
CREATED:20001127T002813Z
LAST-MODIFIED:20250116T052047Z
UID:10001694-1801958400-1802044740@www.newcastlebasketball.com.au
SUMMARY:Closed to General Public
DESCRIPTION:
URL:https://www.newcastlebasketball.com.au/event/closed-to-general-public/2027-02-07/
LOCATION:Newcastle Basketball Stadium\, 27 Young Road\, Broadmeadow\, New South Wales\, 2292\, Australia
CATEGORIES:Shootaround
END:VEVENT
BEGIN:VEVENT
DTSTART;TZID=Australia/Sydney:20270213T000000
DTEND;TZID=Australia/Sydney:20270213T235900
DTSTAMP:20260423T130740
CREATED:20001127T002813Z
LAST-MODIFIED:20250116T052047Z
UID:10001695-1802476800-1802563140@www.newcastlebasketball.com.au
SUMMARY:Closed to General Public
DESCRIPTION:
URL:https://www.newcastlebasketball.com.au/event/closed-to-general-public/2027-02-13/
LOCATION:Newcastle Basketball Stadium\, 27 Young Road\, Broadmeadow\, New South Wales\, 2292\, Australia
CATEGORIES:Shootaround
END:VEVENT
BEGIN:VEVENT
DTSTART;TZID=Australia/Sydney:20270214T000000
DTEND;TZID=Australia/Sydney:20270214T235900
DTSTAMP:20260423T130740
CREATED:20001127T002813Z
LAST-MODIFIED:20250116T052047Z
UID:10001696-1802563200-1802649540@www.newcastlebasketball.com.au
SUMMARY:Closed to General Public
DESCRIPTION:
URL:https://www.newcastlebasketball.com.au/event/closed-to-general-public/2027-02-14/
LOCATION:Newcastle Basketball Stadium\, 27 Young Road\, Broadmeadow\, New South Wales\, 2292\, Australia
CATEGORIES:Shootaround
END:VEVENT
BEGIN:VEVENT
DTSTART;TZID=Australia/Sydney:20270220T000000
DTEND;TZID=Australia/Sydney:20270220T235900
DTSTAMP:20260423T130740
CREATED:20001127T002813Z
LAST-MODIFIED:20250116T052047Z
UID:10001697-1803081600-1803167940@www.newcastlebasketball.com.au
SUMMARY:Closed to General Public
DESCRIPTION:
URL:https://www.newcastlebasketball.com.au/event/closed-to-general-public/2027-02-20/
LOCATION:Newcastle Basketball Stadium\, 27 Young Road\, Broadmeadow\, New South Wales\, 2292\, Australia
CATEGORIES:Shootaround
END:VEVENT
BEGIN:VEVENT
DTSTART;TZID=Australia/Sydney:20270221T000000
DTEND;TZID=Australia/Sydney:20270221T235900
DTSTAMP:20260423T130740
CREATED:20001127T002813Z
LAST-MODIFIED:20250116T052047Z
UID:10001698-1803168000-1803254340@www.newcastlebasketball.com.au
SUMMARY:Closed to General Public
DESCRIPTION:
URL:https://www.newcastlebasketball.com.au/event/closed-to-general-public/2027-02-21/
LOCATION:Newcastle Basketball Stadium\, 27 Young Road\, Broadmeadow\, New South Wales\, 2292\, Australia
CATEGORIES:Shootaround
END:VEVENT
BEGIN:VEVENT
DTSTART;TZID=Australia/Sydney:20270227T000000
DTEND;TZID=Australia/Sydney:20270227T235900
DTSTAMP:20260423T130740
CREATED:20001127T002813Z
LAST-MODIFIED:20250116T052047Z
UID:10001699-1803686400-1803772740@www.newcastlebasketball.com.au
SUMMARY:Closed to General Public
DESCRIPTION:
URL:https://www.newcastlebasketball.com.au/event/closed-to-general-public/2027-02-27/
LOCATION:Newcastle Basketball Stadium\, 27 Young Road\, Broadmeadow\, New South Wales\, 2292\, Australia
CATEGORIES:Shootaround
END:VEVENT
BEGIN:VEVENT
DTSTART;TZID=Australia/Sydney:20270228T000000
DTEND;TZID=Australia/Sydney:20270228T235900
DTSTAMP:20260423T130740
CREATED:20001127T002813Z
LAST-MODIFIED:20250116T052047Z
UID:10001700-1803772800-1803859140@www.newcastlebasketball.com.au
SUMMARY:Closed to General Public
DESCRIPTION:
URL:https://www.newcastlebasketball.com.au/event/closed-to-general-public/2027-02-28/
LOCATION:Newcastle Basketball Stadium\, 27 Young Road\, Broadmeadow\, New South Wales\, 2292\, Australia
CATEGORIES:Shootaround
END:VEVENT
END:VCALENDAR