BEGIN:VCALENDAR
VERSION:2.0
PRODID:-//Newcastle Basketball - ECPv6.8.1//NONSGML v1.0//EN
CALSCALE:GREGORIAN
METHOD:PUBLISH
X-ORIGINAL-URL:https://www.newcastlebasketball.com.au
X-WR-CALDESC:Events for Newcastle Basketball
REFRESH-INTERVAL;VALUE=DURATION:PT1H
X-Robots-Tag:noindex
X-PUBLISHED-TTL:PT1H
BEGIN:VTIMEZONE
TZID:Australia/Sydney
BEGIN:STANDARD
TZOFFSETFROM:+1100
TZOFFSETTO:+1000
TZNAME:AEST
DTSTART:20270403T160000
END:STANDARD
BEGIN:DAYLIGHT
TZOFFSETFROM:+1000
TZOFFSETTO:+1100
TZNAME:AEDT
DTSTART:20271002T160000
END:DAYLIGHT
END:VTIMEZONE
BEGIN:VEVENT
DTSTART;TZID=Australia/Sydney:20270327T000000
DTEND;TZID=Australia/Sydney:20270327T235900
DTSTAMP:20260423T175437
CREATED:20001127T002813Z
LAST-MODIFIED:20250116T052047Z
UID:10001707-1806105600-1806191940@www.newcastlebasketball.com.au
SUMMARY:Closed to General Public
DESCRIPTION:
URL:https://www.newcastlebasketball.com.au/event/closed-to-general-public/2027-03-27/
LOCATION:Newcastle Basketball Stadium\, 27 Young Road\, Broadmeadow\, New South Wales\, 2292\, Australia
CATEGORIES:Shootaround
END:VEVENT
BEGIN:VEVENT
DTSTART;TZID=Australia/Sydney:20270328T000000
DTEND;TZID=Australia/Sydney:20270328T235900
DTSTAMP:20260423T175438
CREATED:20001127T002813Z
LAST-MODIFIED:20250116T052047Z
UID:10001708-1806192000-1806278340@www.newcastlebasketball.com.au
SUMMARY:Closed to General Public
DESCRIPTION:
URL:https://www.newcastlebasketball.com.au/event/closed-to-general-public/2027-03-28/
LOCATION:Newcastle Basketball Stadium\, 27 Young Road\, Broadmeadow\, New South Wales\, 2292\, Australia
CATEGORIES:Shootaround
END:VEVENT
BEGIN:VEVENT
DTSTART;TZID=Australia/Sydney:20270403T000000
DTEND;TZID=Australia/Sydney:20270403T235900
DTSTAMP:20260423T175438
CREATED:20001127T002813Z
LAST-MODIFIED:20250116T052047Z
UID:10001709-1806710400-1806796740@www.newcastlebasketball.com.au
SUMMARY:Closed to General Public
DESCRIPTION:
URL:https://www.newcastlebasketball.com.au/event/closed-to-general-public/2027-04-03/
LOCATION:Newcastle Basketball Stadium\, 27 Young Road\, Broadmeadow\, New South Wales\, 2292\, Australia
CATEGORIES:Shootaround
END:VEVENT
BEGIN:VEVENT
DTSTART;TZID=Australia/Sydney:20270404T000000
DTEND;TZID=Australia/Sydney:20270404T225900
DTSTAMP:20260423T175438
CREATED:20001127T002813Z
LAST-MODIFIED:20250116T052047Z
UID:10001710-1806796800-1806879540@www.newcastlebasketball.com.au
SUMMARY:Closed to General Public
DESCRIPTION:
URL:https://www.newcastlebasketball.com.au/event/closed-to-general-public/2027-04-04/
LOCATION:Newcastle Basketball Stadium\, 27 Young Road\, Broadmeadow\, New South Wales\, 2292\, Australia
CATEGORIES:Shootaround
END:VEVENT
BEGIN:VEVENT
DTSTART;TZID=Australia/Sydney:20270410T000000
DTEND;TZID=Australia/Sydney:20270410T235900
DTSTAMP:20260423T175438
CREATED:20001127T002813Z
LAST-MODIFIED:20250116T052047Z
UID:10001711-1807315200-1807401540@www.newcastlebasketball.com.au
SUMMARY:Closed to General Public
DESCRIPTION:
URL:https://www.newcastlebasketball.com.au/event/closed-to-general-public/2027-04-10/
LOCATION:Newcastle Basketball Stadium\, 27 Young Road\, Broadmeadow\, New South Wales\, 2292\, Australia
CATEGORIES:Shootaround
END:VEVENT
BEGIN:VEVENT
DTSTART;TZID=Australia/Sydney:20270411T000000
DTEND;TZID=Australia/Sydney:20270411T235900
DTSTAMP:20260423T175438
CREATED:20001127T002813Z
LAST-MODIFIED:20250116T052047Z
UID:10001712-1807401600-1807487940@www.newcastlebasketball.com.au
SUMMARY:Closed to General Public
DESCRIPTION:
URL:https://www.newcastlebasketball.com.au/event/closed-to-general-public/2027-04-11/
LOCATION:Newcastle Basketball Stadium\, 27 Young Road\, Broadmeadow\, New South Wales\, 2292\, Australia
CATEGORIES:Shootaround
END:VEVENT
BEGIN:VEVENT
DTSTART;TZID=Australia/Sydney:20270417T000000
DTEND;TZID=Australia/Sydney:20270417T235900
DTSTAMP:20260423T175438
CREATED:20001127T002813Z
LAST-MODIFIED:20250116T052047Z
UID:10001713-1807920000-1808006340@www.newcastlebasketball.com.au
SUMMARY:Closed to General Public
DESCRIPTION:
URL:https://www.newcastlebasketball.com.au/event/closed-to-general-public/2027-04-17/
LOCATION:Newcastle Basketball Stadium\, 27 Young Road\, Broadmeadow\, New South Wales\, 2292\, Australia
CATEGORIES:Shootaround
END:VEVENT
BEGIN:VEVENT
DTSTART;TZID=Australia/Sydney:20270418T000000
DTEND;TZID=Australia/Sydney:20270418T235900
DTSTAMP:20260423T175438
CREATED:20001127T002813Z
LAST-MODIFIED:20250116T052047Z
UID:10001714-1808006400-1808092740@www.newcastlebasketball.com.au
SUMMARY:Closed to General Public
DESCRIPTION:
URL:https://www.newcastlebasketball.com.au/event/closed-to-general-public/2027-04-18/
LOCATION:Newcastle Basketball Stadium\, 27 Young Road\, Broadmeadow\, New South Wales\, 2292\, Australia
CATEGORIES:Shootaround
END:VEVENT
BEGIN:VEVENT
DTSTART;TZID=Australia/Sydney:20270424T000000
DTEND;TZID=Australia/Sydney:20270424T235900
DTSTAMP:20260423T175438
CREATED:20001127T002813Z
LAST-MODIFIED:20250116T052047Z
UID:10001715-1808524800-1808611140@www.newcastlebasketball.com.au
SUMMARY:Closed to General Public
DESCRIPTION:
URL:https://www.newcastlebasketball.com.au/event/closed-to-general-public/2027-04-24/
LOCATION:Newcastle Basketball Stadium\, 27 Young Road\, Broadmeadow\, New South Wales\, 2292\, Australia
CATEGORIES:Shootaround
END:VEVENT
BEGIN:VEVENT
DTSTART;TZID=Australia/Sydney:20270425T000000
DTEND;TZID=Australia/Sydney:20270425T235900
DTSTAMP:20260423T175438
CREATED:20001127T002813Z
LAST-MODIFIED:20250116T052047Z
UID:10001716-1808611200-1808697540@www.newcastlebasketball.com.au
SUMMARY:Closed to General Public
DESCRIPTION:
URL:https://www.newcastlebasketball.com.au/event/closed-to-general-public/2027-04-25/
LOCATION:Newcastle Basketball Stadium\, 27 Young Road\, Broadmeadow\, New South Wales\, 2292\, Australia
CATEGORIES:Shootaround
END:VEVENT
BEGIN:VEVENT
DTSTART;TZID=Australia/Sydney:20270501T000000
DTEND;TZID=Australia/Sydney:20270501T235900
DTSTAMP:20260423T175438
CREATED:20001127T002813Z
LAST-MODIFIED:20250116T052047Z
UID:10001717-1809129600-1809215940@www.newcastlebasketball.com.au
SUMMARY:Closed to General Public
DESCRIPTION:
URL:https://www.newcastlebasketball.com.au/event/closed-to-general-public/2027-05-01/
LOCATION:Newcastle Basketball Stadium\, 27 Young Road\, Broadmeadow\, New South Wales\, 2292\, Australia
CATEGORIES:Shootaround
END:VEVENT
BEGIN:VEVENT
DTSTART;TZID=Australia/Sydney:20270502T000000
DTEND;TZID=Australia/Sydney:20270502T235900
DTSTAMP:20260423T175438
CREATED:20001127T002813Z
LAST-MODIFIED:20250116T052047Z
UID:10001718-1809216000-1809302340@www.newcastlebasketball.com.au
SUMMARY:Closed to General Public
DESCRIPTION:
URL:https://www.newcastlebasketball.com.au/event/closed-to-general-public/2027-05-02/
LOCATION:Newcastle Basketball Stadium\, 27 Young Road\, Broadmeadow\, New South Wales\, 2292\, Australia
CATEGORIES:Shootaround
END:VEVENT
BEGIN:VEVENT
DTSTART;TZID=Australia/Sydney:20270508T000000
DTEND;TZID=Australia/Sydney:20270508T235900
DTSTAMP:20260423T175438
CREATED:20001127T002813Z
LAST-MODIFIED:20250116T052047Z
UID:10001719-1809734400-1809820740@www.newcastlebasketball.com.au
SUMMARY:Closed to General Public
DESCRIPTION:
URL:https://www.newcastlebasketball.com.au/event/closed-to-general-public/2027-05-08/
LOCATION:Newcastle Basketball Stadium\, 27 Young Road\, Broadmeadow\, New South Wales\, 2292\, Australia
CATEGORIES:Shootaround
END:VEVENT
BEGIN:VEVENT
DTSTART;TZID=Australia/Sydney:20270509T000000
DTEND;TZID=Australia/Sydney:20270509T235900
DTSTAMP:20260423T175438
CREATED:20001127T002813Z
LAST-MODIFIED:20250116T052047Z
UID:10001720-1809820800-1809907140@www.newcastlebasketball.com.au
SUMMARY:Closed to General Public
DESCRIPTION:
URL:https://www.newcastlebasketball.com.au/event/closed-to-general-public/2027-05-09/
LOCATION:Newcastle Basketball Stadium\, 27 Young Road\, Broadmeadow\, New South Wales\, 2292\, Australia
CATEGORIES:Shootaround
END:VEVENT
BEGIN:VEVENT
DTSTART;TZID=Australia/Sydney:20270515T000000
DTEND;TZID=Australia/Sydney:20270515T235900
DTSTAMP:20260423T175438
CREATED:20001127T002813Z
LAST-MODIFIED:20250116T052047Z
UID:10001721-1810339200-1810425540@www.newcastlebasketball.com.au
SUMMARY:Closed to General Public
DESCRIPTION:
URL:https://www.newcastlebasketball.com.au/event/closed-to-general-public/2027-05-15/
LOCATION:Newcastle Basketball Stadium\, 27 Young Road\, Broadmeadow\, New South Wales\, 2292\, Australia
CATEGORIES:Shootaround
END:VEVENT
BEGIN:VEVENT
DTSTART;TZID=Australia/Sydney:20270516T000000
DTEND;TZID=Australia/Sydney:20270516T235900
DTSTAMP:20260423T175438
CREATED:20001127T002813Z
LAST-MODIFIED:20250116T052047Z
UID:10001722-1810425600-1810511940@www.newcastlebasketball.com.au
SUMMARY:Closed to General Public
DESCRIPTION:
URL:https://www.newcastlebasketball.com.au/event/closed-to-general-public/2027-05-16/
LOCATION:Newcastle Basketball Stadium\, 27 Young Road\, Broadmeadow\, New South Wales\, 2292\, Australia
CATEGORIES:Shootaround
END:VEVENT
BEGIN:VEVENT
DTSTART;TZID=Australia/Sydney:20270522T000000
DTEND;TZID=Australia/Sydney:20270522T235900
DTSTAMP:20260423T175438
CREATED:20001127T002813Z
LAST-MODIFIED:20250116T052047Z
UID:10001723-1810944000-1811030340@www.newcastlebasketball.com.au
SUMMARY:Closed to General Public
DESCRIPTION:
URL:https://www.newcastlebasketball.com.au/event/closed-to-general-public/2027-05-22/
LOCATION:Newcastle Basketball Stadium\, 27 Young Road\, Broadmeadow\, New South Wales\, 2292\, Australia
CATEGORIES:Shootaround
END:VEVENT
BEGIN:VEVENT
DTSTART;TZID=Australia/Sydney:20270523T000000
DTEND;TZID=Australia/Sydney:20270523T235900
DTSTAMP:20260423T175438
CREATED:20001127T002813Z
LAST-MODIFIED:20250116T052047Z
UID:10001724-1811030400-1811116740@www.newcastlebasketball.com.au
SUMMARY:Closed to General Public
DESCRIPTION:
URL:https://www.newcastlebasketball.com.au/event/closed-to-general-public/2027-05-23/
LOCATION:Newcastle Basketball Stadium\, 27 Young Road\, Broadmeadow\, New South Wales\, 2292\, Australia
CATEGORIES:Shootaround
END:VEVENT
BEGIN:VEVENT
DTSTART;TZID=Australia/Sydney:20270529T000000
DTEND;TZID=Australia/Sydney:20270529T235900
DTSTAMP:20260423T175438
CREATED:20001127T002813Z
LAST-MODIFIED:20250116T052047Z
UID:10001725-1811548800-1811635140@www.newcastlebasketball.com.au
SUMMARY:Closed to General Public
DESCRIPTION:
URL:https://www.newcastlebasketball.com.au/event/closed-to-general-public/2027-05-29/
LOCATION:Newcastle Basketball Stadium\, 27 Young Road\, Broadmeadow\, New South Wales\, 2292\, Australia
CATEGORIES:Shootaround
END:VEVENT
BEGIN:VEVENT
DTSTART;TZID=Australia/Sydney:20270530T000000
DTEND;TZID=Australia/Sydney:20270530T235900
DTSTAMP:20260423T175438
CREATED:20001127T002813Z
LAST-MODIFIED:20250116T052047Z
UID:10001726-1811635200-1811721540@www.newcastlebasketball.com.au
SUMMARY:Closed to General Public
DESCRIPTION:
URL:https://www.newcastlebasketball.com.au/event/closed-to-general-public/2027-05-30/
LOCATION:Newcastle Basketball Stadium\, 27 Young Road\, Broadmeadow\, New South Wales\, 2292\, Australia
CATEGORIES:Shootaround
END:VEVENT
BEGIN:VEVENT
DTSTART;TZID=Australia/Sydney:20270605T000000
DTEND;TZID=Australia/Sydney:20270605T235900
DTSTAMP:20260423T175438
CREATED:20001127T002813Z
LAST-MODIFIED:20250116T052047Z
UID:10001727-1812153600-1812239940@www.newcastlebasketball.com.au
SUMMARY:Closed to General Public
DESCRIPTION:
URL:https://www.newcastlebasketball.com.au/event/closed-to-general-public/2027-06-05/
LOCATION:Newcastle Basketball Stadium\, 27 Young Road\, Broadmeadow\, New South Wales\, 2292\, Australia
CATEGORIES:Shootaround
END:VEVENT
BEGIN:VEVENT
DTSTART;TZID=Australia/Sydney:20270606T000000
DTEND;TZID=Australia/Sydney:20270606T235900
DTSTAMP:20260423T175438
CREATED:20001127T002813Z
LAST-MODIFIED:20250116T052047Z
UID:10001728-1812240000-1812326340@www.newcastlebasketball.com.au
SUMMARY:Closed to General Public
DESCRIPTION:
URL:https://www.newcastlebasketball.com.au/event/closed-to-general-public/2027-06-06/
LOCATION:Newcastle Basketball Stadium\, 27 Young Road\, Broadmeadow\, New South Wales\, 2292\, Australia
CATEGORIES:Shootaround
END:VEVENT
BEGIN:VEVENT
DTSTART;TZID=Australia/Sydney:20270612T000000
DTEND;TZID=Australia/Sydney:20270612T235900
DTSTAMP:20260423T175438
CREATED:20001127T002813Z
LAST-MODIFIED:20250116T052047Z
UID:10001729-1812758400-1812844740@www.newcastlebasketball.com.au
SUMMARY:Closed to General Public
DESCRIPTION:
URL:https://www.newcastlebasketball.com.au/event/closed-to-general-public/2027-06-12/
LOCATION:Newcastle Basketball Stadium\, 27 Young Road\, Broadmeadow\, New South Wales\, 2292\, Australia
CATEGORIES:Shootaround
END:VEVENT
BEGIN:VEVENT
DTSTART;TZID=Australia/Sydney:20270613T000000
DTEND;TZID=Australia/Sydney:20270613T235900
DTSTAMP:20260423T175438
CREATED:20001127T002813Z
LAST-MODIFIED:20250116T052047Z
UID:10001730-1812844800-1812931140@www.newcastlebasketball.com.au
SUMMARY:Closed to General Public
DESCRIPTION:
URL:https://www.newcastlebasketball.com.au/event/closed-to-general-public/2027-06-13/
LOCATION:Newcastle Basketball Stadium\, 27 Young Road\, Broadmeadow\, New South Wales\, 2292\, Australia
CATEGORIES:Shootaround
END:VEVENT
BEGIN:VEVENT
DTSTART;TZID=Australia/Sydney:20270619T000000
DTEND;TZID=Australia/Sydney:20270619T235900
DTSTAMP:20260423T175438
CREATED:20001127T002813Z
LAST-MODIFIED:20250116T052047Z
UID:10001731-1813363200-1813449540@www.newcastlebasketball.com.au
SUMMARY:Closed to General Public
DESCRIPTION:
URL:https://www.newcastlebasketball.com.au/event/closed-to-general-public/2027-06-19/
LOCATION:Newcastle Basketball Stadium\, 27 Young Road\, Broadmeadow\, New South Wales\, 2292\, Australia
CATEGORIES:Shootaround
END:VEVENT
BEGIN:VEVENT
DTSTART;TZID=Australia/Sydney:20270620T000000
DTEND;TZID=Australia/Sydney:20270620T235900
DTSTAMP:20260423T175438
CREATED:20001127T002813Z
LAST-MODIFIED:20250116T052047Z
UID:10001732-1813449600-1813535940@www.newcastlebasketball.com.au
SUMMARY:Closed to General Public
DESCRIPTION:
URL:https://www.newcastlebasketball.com.au/event/closed-to-general-public/2027-06-20/
LOCATION:Newcastle Basketball Stadium\, 27 Young Road\, Broadmeadow\, New South Wales\, 2292\, Australia
CATEGORIES:Shootaround
END:VEVENT
BEGIN:VEVENT
DTSTART;TZID=Australia/Sydney:20270626T000000
DTEND;TZID=Australia/Sydney:20270626T235900
DTSTAMP:20260423T175438
CREATED:20001127T002813Z
LAST-MODIFIED:20250116T052047Z
UID:10001733-1813968000-1814054340@www.newcastlebasketball.com.au
SUMMARY:Closed to General Public
DESCRIPTION:
URL:https://www.newcastlebasketball.com.au/event/closed-to-general-public/2027-06-26/
LOCATION:Newcastle Basketball Stadium\, 27 Young Road\, Broadmeadow\, New South Wales\, 2292\, Australia
CATEGORIES:Shootaround
END:VEVENT
BEGIN:VEVENT
DTSTART;TZID=Australia/Sydney:20270627T000000
DTEND;TZID=Australia/Sydney:20270627T235900
DTSTAMP:20260423T175438
CREATED:20001127T002813Z
LAST-MODIFIED:20250116T052047Z
UID:10001734-1814054400-1814140740@www.newcastlebasketball.com.au
SUMMARY:Closed to General Public
DESCRIPTION:
URL:https://www.newcastlebasketball.com.au/event/closed-to-general-public/2027-06-27/
LOCATION:Newcastle Basketball Stadium\, 27 Young Road\, Broadmeadow\, New South Wales\, 2292\, Australia
CATEGORIES:Shootaround
END:VEVENT
BEGIN:VEVENT
DTSTART;TZID=Australia/Sydney:20270703T000000
DTEND;TZID=Australia/Sydney:20270703T235900
DTSTAMP:20260423T175438
CREATED:20001127T002813Z
LAST-MODIFIED:20250116T052047Z
UID:10001735-1814572800-1814659140@www.newcastlebasketball.com.au
SUMMARY:Closed to General Public
DESCRIPTION:
URL:https://www.newcastlebasketball.com.au/event/closed-to-general-public/2027-07-03/
LOCATION:Newcastle Basketball Stadium\, 27 Young Road\, Broadmeadow\, New South Wales\, 2292\, Australia
CATEGORIES:Shootaround
END:VEVENT
BEGIN:VEVENT
DTSTART;TZID=Australia/Sydney:20270704T000000
DTEND;TZID=Australia/Sydney:20270704T235900
DTSTAMP:20260423T175438
CREATED:20001127T002813Z
LAST-MODIFIED:20250116T052047Z
UID:10001736-1814659200-1814745540@www.newcastlebasketball.com.au
SUMMARY:Closed to General Public
DESCRIPTION:
URL:https://www.newcastlebasketball.com.au/event/closed-to-general-public/2027-07-04/
LOCATION:Newcastle Basketball Stadium\, 27 Young Road\, Broadmeadow\, New South Wales\, 2292\, Australia
CATEGORIES:Shootaround
END:VEVENT
END:VCALENDAR